BEGIN:VCALENDAR
VERSION:2.0
PRODID:-//Squarespace Inc/Squarespace 6//v6//EN
BEGIN:VEVENT
UID:5d9936d75d261f3fb1585ed1@squarespace.com
DTSTAMP:20191006T004317Z
DTSTART:20191012T050000Z
DTEND:20191012T063000Z
SUMMARY:UNDER 14 GIRLS 2020 REPRESENTATIVE TRIAL
END:VEVENT
END:VCALENDAR
