BEGIN:VCALENDAR
VERSION:2.0
PRODID:-//Squarespace Inc/Squarespace 6//v6//EN
BEGIN:VEVENT
UID:5cad754d085229d18d42abe9@squarespace.com
DTSTAMP:20190410T050118Z
DTSTART:20190423T230000Z
DTEND:20190426T080000Z
SUMMARY:SASS Strikers Soccer Club 2019 Holiday Camp 
END:VEVENT
END:VCALENDAR
