BEGIN:VCALENDAR
VERSION:2.0
PRODID:-//Squarespace Inc/Squarespace 6//v6//EN
BEGIN:VEVENT
UID:5ccf8840eb3931597f9929a1@squarespace.com
DTSTAMP:20190506T010621Z
DTSTART:20190518T223000Z
DTEND:20190519T063000Z
SUMMARY:Western Youth League - Wellington &amp\; Forbes
END:VEVENT
END:VCALENDAR
