BEGIN:VCALENDAR
VERSION:2.0
PRODID:-//Squarespace Inc/Squarespace 6//v6//EN
BEGIN:VEVENT
UID:5ccf87130d9297770eb80272@squarespace.com
DTSTAMP:20190506T010044Z
DTSTART:20190520T080000Z
DTEND:20190520T100000Z
SUMMARY:Game Training / Senior Coaching&nbsp\;Certificate
END:VEVENT
END:VCALENDAR
