BEGIN:VCALENDAR
VERSION:2.0
PRODID:-//Squarespace Inc/Squarespace 6//v6//EN
BEGIN:VEVENT
UID:5cd0defab208fcc855401f65@squarespace.com
DTSTAMP:20190507T013443Z
DTSTART:20190524T223000Z
DTEND:20190602T113000Z
SUMMARY:2019 Female Football Week - 25th May to 2nd June
END:VEVENT
END:VCALENDAR
