BEGIN:VCALENDAR
VERSION:2.0
PRODID:-//Squarespace Inc/Squarespace 6//v6//EN
BEGIN:VEVENT
UID:5ccf889e104c7b981c38e0f2@squarespace.com
DTSTAMP:20190506T010812Z
DTSTART:20190525T223000Z
DTEND:20190526T063000Z
SUMMARY:Western Youth League - Dubbo &amp\; Orange
END:VEVENT
END:VCALENDAR
