BEGIN:VCALENDAR
VERSION:2.0
PRODID:-//Squarespace Inc/Squarespace 6//v6//EN
BEGIN:VEVENT
UID:5cc95286e5e5f006b1223a4e@squarespace.com
DTSTAMP:20190501T080950Z
DTSTART:20190504T223000Z
DTEND:20190505T073000Z
SUMMARY:Western Youth League - Bathurst
GEO:-33.429918;149.588498
LOCATION:Proctor Park\, Gormans Hill Rd\, Bathurst\, NSW\, 2795\, Australia
END:VEVENT
END:VCALENDAR
