BEGIN:VCALENDAR
VERSION:2.0
PRODID:-//Squarespace Inc/Squarespace 6//v6//EN
BEGIN:VEVENT
UID:5ccf8959b208fc5e822cfe43@squarespace.com
DTSTAMP:20190506T011048Z
DTSTART:20190615T223000Z
DTEND:20190616T063000Z
SUMMARY:Western Youth League - Mudgee
END:VEVENT
END:VCALENDAR
