BEGIN:VCALENDAR
VERSION:2.0
PRODID:-//Squarespace Inc/Squarespace 6//v6//EN
BEGIN:VEVENT
UID:5ccf7d8971c10b7dac319eed@squarespace.com
DTSTAMP:20190506T002008Z
DTSTART:20190604T200000Z
DTEND:20190604T220000Z
SUMMARY:Dubbo Community Goalkeeping Coaching Certificate 
END:VEVENT
END:VCALENDAR
