BEGIN:VCALENDAR
VERSION:2.0
PRODID:-//Squarespace Inc/Squarespace 6//v6//EN
BEGIN:VEVENT
UID:5d491b8c836642000187972c@squarespace.com
DTSTAMP:20190816T005834Z
DTSTART:20190907T050000Z
DTEND:20190907T063000Z
SUMMARY:UNDER 12 GIRLS 2020 REPRESENTATIVE 3RD TRIAL
END:VEVENT
END:VCALENDAR
