BEGIN:VCALENDAR
VERSION:2.0
PRODID:-//Squarespace Inc/Squarespace 6//v6//EN
BEGIN:VEVENT
UID:5d5600dbd8f76500018b1994@squarespace.com
DTSTAMP:20190816T010423Z
DTSTART:20190831T063000Z
DTEND:20190831T073000Z
SUMMARY:UNDER 13 BOYS 2020 REPRESENTATIVE TRIALS WILL BE HELD AT LADY CUTLE
 R 6
END:VEVENT
END:VCALENDAR
