BEGIN:VCALENDAR
VERSION:2.0
PRODID:-//Squarespace Inc/Squarespace 6//v6//EN
BEGIN:VEVENT
UID:5d65b113743d430001a2b46b@squarespace.com
DTSTAMP:20190827T224157Z
DTSTART:20190911T063000Z
DTEND:20190911T080000Z
SUMMARY:The 2nd trial for Under 11 boys 2020 Representative team
END:VEVENT
END:VCALENDAR
