BEGIN:VCALENDAR
VERSION:2.0
PRODID:-//Squarespace Inc/Squarespace 6//v6//EN
BEGIN:VEVENT
UID:5d65b201491c1400016810e5@squarespace.com
DTSTAMP:20190829T004858Z
DTSTART:20190918T063000Z
DTEND:20190918T080000Z
SUMMARY:Under 14 boys 2020 Trial
END:VEVENT
END:VCALENDAR
