BEGIN:VCALENDAR
VERSION:2.0
PRODID:-//Squarespace Inc/Squarespace 6//v6//EN
BEGIN:VEVENT
UID:5d6721c0e0d47900018fae59@squarespace.com
DTSTAMP:20190829T005522Z
DTSTART:20190906T061500Z
DTEND:20190906T071500Z
SUMMARY:UNDER 10 BOYS 2ND REPRESENTATIVE TRIAL FOR 2020
END:VEVENT
END:VCALENDAR
