BEGIN:VCALENDAR
VERSION:2.0
PRODID:-//Squarespace Inc/Squarespace 6//v6//EN
BEGIN:VEVENT
UID:5dfd24af53ae683776f441ae@squarespace.com
DTSTAMP:20200127T001911Z
DTSTART:20200131T220000Z
DTEND:20200131T233000Z
SUMMARY:UNDER 12 GIRLS 2020 REPRESENTATIVE TRIAL
END:VEVENT
END:VCALENDAR
