BEGIN:VCALENDAR
VERSION:2.0
PRODID:-//Squarespace Inc/Squarespace 6//v6//EN
BEGIN:VEVENT
UID:5e31eda6da380b242809d87a@squarespace.com
DTSTAMP:20200129T204237Z
DTSTART:20200203T063000Z
DTEND:20200203T083000Z
SUMMARY:UNDER 14 &amp\; UNDER 16 GIRLS REPRESENTATIVE TRIALS
END:VEVENT
END:VCALENDAR
