BEGIN:VCALENDAR
VERSION:2.0
PRODID:-//Squarespace Inc/Squarespace 6//v6//EN
BEGIN:VEVENT
UID:5e31ee475977925197692eaf@squarespace.com
DTSTAMP:20200129T204510Z
DTSTART:20200206T063000Z
DTEND:20200206T080000Z
SUMMARY:UNDER 14 &amp\; 16 GIRLS REPRESENTATIVE TRIALS
END:VEVENT
END:VCALENDAR
