BEGIN:VCALENDAR
VERSION:2.0
PRODID:-//Squarespace Inc/Squarespace 6//v6//EN
BEGIN:VEVENT
UID:5dfd251e9c98c06db366b11d@squarespace.com
DTSTAMP:20200127T001939Z
DTSTART:20200207T220000Z
DTEND:20200207T233000Z
SUMMARY:UNDER 12 GIRLS 2020 REPRESENTATIVE TRIAL
END:VEVENT
END:VCALENDAR
